Workbook
Name Category: 'Category&Type'!$D$2:$D$35
Name Item_Type: 'Category&Type'!$E$2:$E$35

Sheet Data
A1: Loan Event Name | B1: MPF Loan Number | C1: Loan Event Sequence Number | D1: Loan Servicer Transaction Processed Date | E1: Loan Escrow Contractual Payment Amount | F1: Loan Escrow Item Category Type | G1: Loan Escrow Item Type | H1: Loan Escrow Item Amount | I1: Loan Escrow Balance Amount
A2: Escrow | B2: 1234567891 | C2: 1 | D2: 45717 | E2: 1440.99 | F2: Loan Tax And Insurance | G2: County Tax | H2: 8505 | I2: 8505
A3: Escrow | B3: 1234567891 | C3: 2 | D3: 45718 | E3: 1440.99 | F3: Loan Tax And Insurance | G3: County Tax | H3: -500 | I3: 8005
A4: Escrow | B4: 1234567891 | C4: 3 | D4: 45719 | E4: 1440.99 | F4: Loan Tax And Insurance | G4: County Tax | H4: -500 | I4: 7505
A5: Escrow | B5: 1234567891 | C5: 4 | D5: 45720 | E5: 1440.99 | F5: Loan Tax And Insurance | G5: County Tax | H5: -500 | I5: 7005
A6: Escrow | B6: 1234567891 | C6: 5 | D6: 45721 | E6: 1440.99 | F6: Loan Tax And Insurance | G6: County Tax | H6: -500 | I6: 6505
A7: Escrow | B7: 1234567891 | C7: 6 | D7: 45722 | E7: 1440.99 | F7: Loan Tax And Insurance | G7: County Tax | H7: -500 | I7: 6005
A8: Escrow | B8: 1234567891 | C8: 7 | D8: 45723 | E8: 1440.99 | F8: Loan Tax And Insurance | G8: County Tax | H8: -500 | I8: 5505
A9: Escrow | B9: 1234567891 | C9: 8 | D9: 45724 | E9: 1440.99 | F9: Loan Tax And Insurance | G9: Other Tax | H9: -500 | I9: 5005
A10: Escrow | B10: 1234567891 | C10: 9 | D10: 45725 | E10: 1440.99 | F10: Loan Tax And Insurance | G10: School Tax | H10: -500 | I10: 4505
A11: Escrow | B11: 1234567891 | C11: 10 | D11: 45726 | E11: 1440.99 | F11: Loan Tax And Insurance | G11: County Tax | H11: -500 | I11: 4005
A12: Escrow | B12: 1234567891 | C12: 11 | D12: 45727 | E12: 1440.99 | F12: Loan Tax And Insurance | G12: County Tax | H12: -500 | I12: 3505
A13: Escrow | B13: 1234567891 | C13: 12 | D13: 45728 | E13: 1440.99 | F13: Loan Tax And Insurance | G13: County Tax | H13: -500 | I13: 3005
... A19: Escrow | B19: 7891234650 | C19: 2 | D19: 45658 | E19: 500 | F19: Loan Buy Down | G19: Setup | H19: 2000 | I19: 4000

Sheet Category&Type
A1: Combined | B1: Loan Escrow Item Category Type | C1: Loan Escrow Item Type | D1: Loan Escrow Item Category Type UI | E1: Loan Escrow Item Type UI | G1: UniqueCategory | I1: Filter for SampleData Cell G9 Dependent Dropdown | J1: ---> | K1: {=TRANSPOSE(_xlfn._xlws.FILTER(Item_Type, Category = Data!F2))} -> Borrower Paid Mortgage Insurance | L1: City Tax | M1: County Tax | N1: Earthquake Insurance | O1: Escrow Closeout | P1: Escrow Refund | Q1: Fire Insurance | R1: Flood Insurance | S1: Hail Insurance | T1: Homeowners Insurance | U1: Insurance Refund | V1: Interest On Escrow | W1: Lender Placed Insurance | X1: Loan Escrow Payment | Y1: Modification | Z1: Mortgage Insurance Refund | AA1: Other | AB1: Other Insurance | AC1: Other Refund | AD1: Other Tax | AE1: School Tax | AF1: Setup | AG1: Tax Refund | AH1: Town Tax | AI1: Volcano Insurance | AJ1: Windstorm Insurance
A2: InterestSubsidy:BuydownSubsidy | B2: InterestSubsidy | C2: BuydownSubsidy | D2: Loan Buy Down | E2: Loan Buy Down Activity | G2: {=_xlfn.UNIQUE(Category)} -> Loan Buy Down | I2: G10 | J2: ---> | K2: {=TRANSPOSE(_xlfn._xlws.FILTER(Item_Type, Category = Data!F3))} -> Borrower Paid Mortgage Insurance | L2: City Tax | M2: County Tax | N2: Earthquake Insurance | O2: Escrow Closeout | P2: Escrow Refund | Q2: Fire Insurance | R2: Flood Insurance | S2: Hail Insurance | T2: Homeowners Insurance | U2: Insurance Refund | V2: Interest On Escrow | W2: Lender Placed Insurance | X2: Loan Escrow Payment | Y2: Modification | Z2: Mortgage Insurance Refund | AA2: Other | AB2: Other Insurance | AC2: Other Refund | AD2: Other Tax | AE2: School Tax | AF2: Setup | AG2: Tax Refund | AH2: Town Tax | AI2: Volcano Insurance | AJ2: Windstorm Insurance
A3: InterestSubsidy:Setup | B3: InterestSubsidy | C3: Setup | D3: Loan Buy Down | E3: Setup | G3: Loan Loss Draft | I3: Etc | J3: ---> | K3: {=TRANSPOSE(_xlfn._xlws.FILTER(Item_Type, Category = Data!F4))} -> Borrower Paid Mortgage Insurance | L3: City Tax | M3: County Tax | N3: Earthquake Insurance | O3: Escrow Closeout | P3: Escrow Refund | Q3: Fire Insurance | R3: Flood Insurance | S3: Hail Insurance | T3: Homeowners Insurance | U3: Insurance Refund | V3: Interest On Escrow | W3: Lender Placed Insurance | X3: Loan Escrow Payment | Y3: Modification | Z3: Mortgage Insurance Refund | AA3: Other | AB3: Other Insurance | AC3: Other Refund | AD3: Other Tax | AE3: School Tax | AF3: Setup | AG3: Tax Refund | AH3: Town Tax | AI3: Volcano Insurance | AJ3: Windstorm Insurance
A4: LossDraft:InterestOnEscrow | B4: LossDraft | C4: InterestOnEscrow | D4: Loan Loss Draft | E4: Interest on Escrow | G4: Loan Renovation | I4: … | J4: ---> | K4: {=TRANSPOSE(_xlfn._xlws.FILTER(Item_Type, Category = Data!F5))} -> Borrower Paid Mortgage Insurance | L4: City Tax | M4: County Tax | N4: Earthquake Insurance | O4: Escrow Closeout | P4: Escrow Refund | Q4: Fire Insurance | R4: Flood Insurance | S4: Hail Insurance | T4: Homeowners Insurance | U4: Insurance Refund | V4: Interest On Escrow | W4: Lender Placed Insurance | X4: Loan Escrow Payment | Y4: Modification | Z4: Mortgage Insurance Refund | AA4: Other | AB4: Other Insurance | AC4: Other Refund | AD4: Other Tax | AE4: School Tax | AF4: Setup | AG4: Tax Refund | AH4: Town Tax | AI4: Volcano Insurance | AJ4: Windstorm Insurance
A5: LossDraft:RestrictedEscrow | B5: LossDraft | C5: RestrictedEscrow | D5: Loan Loss Draft | E5: Loan Loss Draft Activity | G5: Loan Tax And Insurance | K5: {=TRANSPOSE(_xlfn._xlws.FILTER(Item_Type, Category = Data!F6))} -> Borrower Paid Mortgage Insurance | L5: City Tax | M5: County Tax | N5: Earthquake Insurance | O5: Escrow Closeout | P5: Escrow Refund | Q5: Fire Insurance | R5: Flood Insurance | S5: Hail Insurance | T5: Homeowners Insurance | U5: Insurance Refund | V5: Interest On Escrow | W5: Lender Placed Insurance | X5: Loan Escrow Payment | Y5: Modification | Z5: Mortgage Insurance Refund | AA5: Other | AB5: Other Insurance | AC5: Other Refund | AD5: Other Tax | AE5: School Tax | AF5: Setup | AG5: Tax Refund | AH5: Town Tax | AI5: Volcano Insurance | AJ5: Windstorm Insurance
A6: LossDraft:Setup | B6: LossDraft | C6: Setup | D6: Loan Loss Draft | E6: Setup | K6: {=TRANSPOSE(_xlfn._xlws.FILTER(Item_Type, Category = Data!F7))} -> Borrower Paid Mortgage Insurance | L6: City Tax | M6: County Tax | N6: Earthquake Insurance | O6: Escrow Closeout | P6: Escrow Refund | Q6: Fire Insurance | R6: Flood Insurance | S6: Hail Insurance | T6: Homeowners Insurance | U6: Insurance Refund | V6: Interest On Escrow | W6: Lender Placed Insurance | X6: Loan Escrow Payment | Y6: Modification | Z6: Mortgage Insurance Refund | AA6: Other | AB6: Other Insurance | AC6: Other Refund | AD6: Other Tax | AE6: School Tax | AF6: Setup | AG6: Tax Refund | AH6: Town Tax | AI6: Volcano Insurance | AJ6: Windstorm Insurance
A7: Holdback:InterestOnEscrow | B7: Holdback | C7: InterestOnEscrow | D7: Loan Renovation | E7: Interest on Escrow | K7: {=TRANSPOSE(_xlfn._xlws.FILTER(Item_Type, Category = Data!F8))} -> Borrower Paid Mortgage Insurance | L7: City Tax | M7: County Tax | N7: Earthquake Insurance | O7: Escrow Closeout | P7: Escrow Refund | Q7: Fire Insurance | R7: Flood Insurance | S7: Hail Insurance | T7: Homeowners Insurance | U7: Insurance Refund | V7: Interest On Escrow | W7: Lender Placed Insurance | X7: Loan Escrow Payment | Y7: Modification | Z7: Mortgage Insurance Refund | AA7: Other | AB7: Other Insurance | AC7: Other Refund | AD7: Other Tax | AE7: School Tax | AF7: Setup | AG7: Tax Refund | AH7: Town Tax | AI7: Volcano Insurance | AJ7: Windstorm Insurance
A8: Holdback:EscrowHoldback | B8: Holdback | C8: EscrowHoldback | D8: Loan Renovation | E8: Loan Renovation Activity | K8: {=TRANSPOSE(_xlfn._xlws.FILTER(Item_Type, Category = Data!F9))} -> Borrower Paid Mortgage Insurance | L8: City Tax | M8: County Tax | N8: Earthquake Insurance | O8: Escrow Closeout | P8: Escrow Refund | Q8: Fire Insurance | R8: Flood Insurance | S8: Hail Insurance | T8: Homeowners Insurance | U8: Insurance Refund | V8: Interest On Escrow | W8: Lender Placed Insurance | X8: Loan Escrow Payment | Y8: Modification | Z8: Mortgage Insurance Refund | AA8: Other | AB8: Other Insurance | AC8: Other Refund | AD8: Other Tax | AE8: School Tax | AF8: Setup | AG8: Tax Refund | AH8: Town Tax | AI8: Volcano Insurance | AJ8: Windstorm Insurance
A9: Holdback:Setup | B9: Holdback | C9: Setup | D9: Loan Renovation | E9: Setup | K9: {=TRANSPOSE(_xlfn._xlws.FILTER(Item_Type, Category = Data!F10))} -> Borrower Paid Mortgage Insurance | L9: City Tax | M9: County Tax | N9: Earthquake Insurance | O9: Escrow Closeout | P9: Escrow Refund | Q9: Fire Insurance | R9: Flood Insurance | S9: Hail Insurance | T9: Homeowners Insurance | U9: Insurance Refund | V9: Interest On Escrow | W9: Lender Placed Insurance | X9: Loan Escrow Payment | Y9: Modification | Z9: Mortgage Insurance Refund | AA9: Other | AB9: Other Insurance | AC9: Other Refund | AD9: Other Tax | AE9: School Tax | AF9: Setup | AG9: Tax Refund | AH9: Town Tax | AI9: Volcano Insurance | AJ9: Windstorm Insurance
A10: TaxAndInsurance:MortgageInsurance | B10: TaxAndInsurance | C10: MortgageInsurance | D10: Loan Tax And Insurance | E10: Borrower Paid Mortgage Insurance | K10: {=TRANSPOSE(_xlfn._xlws.FILTER(Item_Type, Category = Data!F11))} -> Borrower Paid Mortgage Insurance | L10: City Tax | M10: County Tax | N10: Earthquake Insurance | O10: Escrow Closeout | P10: Escrow Refund | Q10: Fire Insurance | R10: Flood Insurance | S10: Hail Insurance | T10: Homeowners Insurance | U10: Insurance Refund | V10: Interest On Escrow | W10: Lender Placed Insurance | X10: Loan Escrow Payment | Y10: Modification | Z10: Mortgage Insurance Refund | AA10: Other | AB10: Other Insurance | AC10: Other Refund | AD10: Other Tax | AE10: School Tax | AF10: Setup | AG10: Tax Refund | AH10: Town Tax | AI10: Volcano Insurance | AJ10: Windstorm Insurance
A11: TaxAndInsurance:CityPropertyTax | B11: TaxAndInsurance | C11: CityPropertyTax | D11: Loan Tax And Insurance | E11: City Tax | K11: {=TRANSPOSE(_xlfn._xlws.FILTER(Item_Type, Category = Data!F12))} -> Borrower Paid Mortgage Insurance | L11: City Tax | M11: County Tax | N11: Earthquake Insurance | O11: Escrow Closeout | P11: Escrow Refund | Q11: Fire Insurance | R11: Flood Insurance | S11: Hail Insurance | T11: Homeowners Insurance | U11: Insurance Refund | V11: Interest On Escrow | W11: Lender Placed Insurance | X11: Loan Escrow Payment | Y11: Modification | Z11: Mortgage Insurance Refund | AA11: Other | AB11: Other Insurance | AC11: Other Refund | AD11: Other Tax | AE11: School Tax | AF11: Setup | AG11: Tax Refund | AH11: Town Tax | AI11: Volcano Insurance | AJ11: Windstorm Insurance
A12: TaxAndInsurance:CountyPropertyTax | B12: TaxAndInsurance | C12: CountyPropertyTax | D12: Loan Tax And Insurance | E12: County Tax | K12: {=TRANSPOSE(_xlfn._xlws.FILTER(Item_Type, Category = Data!F13))} -> Borrower Paid Mortgage Insurance | L12: City Tax | M12: County Tax | N12: Earthquake Insurance | O12: Escrow Closeout | P12: Escrow Refund | Q12: Fire Insurance | R12: Flood Insurance | S12: Hail Insurance | T12: Homeowners Insurance | U12: Insurance Refund | V12: Interest On Escrow | W12: Lender Placed Insurance | X12: Loan Escrow Payment | Y12: Modification | Z12: Mortgage Insurance Refund | AA12: Other | AB12: Other Insurance | AC12: Other Refund | AD12: Other Tax | AE12: School Tax | AF12: Setup | AG12: Tax Refund | AH12: Town Tax | AI12: Volcano Insurance | AJ12: Windstorm Insurance
A13: TaxAndInsurance:EarthquakeInsurance | B13: TaxAndInsurance | C13: EarthquakeInsurance | D13: Loan Tax And Insurance | E13: Earthquake Insurance | K13: {=TRANSPOSE(_xlfn._xlws.FILTER(Item_Type, Category = Data!F14))} -> Borrower Paid Mortgage Insurance | L13: City Tax | M13: County Tax | N13: Earthquake Insurance | O13: Escrow Closeout | P13: Escrow Refund | Q13: Fire Insurance | R13: Flood Insurance | S13: Hail Insurance | T13: Homeowners Insurance | U13: Insurance Refund | V13: Interest On Escrow | W13: Lender Placed Insurance | X13: Loan Escrow Payment | Y13: Modification | Z13: Mortgage Insurance Refund | AA13: Other | AB13: Other Insurance | AC13: Other Refund | AD13: Other Tax | AE13: School Tax | AF13: Setup | AG13: Tax Refund | AH13: Town Tax | AI13: Volcano Insurance | AJ13: Windstorm Insurance
A14: TaxAndInsurance:EscrowCloseout | B14: TaxAndInsurance | C14: EscrowCloseout | D14: Loan Tax And Insurance | E14: Escrow Closeout | K14: {=TRANSPOSE(_xlfn._xlws.FILTER(Item_Type, Category = Data!F15))} -> Borrower Paid Mortgage Insurance | L14: City Tax | M14: County Tax | N14: Earthquake Insurance | O14: Escrow Closeout | P14: Escrow Refund | Q14: Fire Insurance | R14: Flood Insurance | S14: Hail Insurance | T14: Homeowners Insurance | U14: Insurance Refund | V14: Interest On Escrow | W14: Lender Placed Insurance | X14: Loan Escrow Payment | Y14: Modification | Z14: Mortgage Insurance Refund | AA14: Other | AB14: Other Insurance | AC14: Other Refund | AD14: Other Tax | AE14: School Tax | AF14: Setup | AG14: Tax Refund | AH14: Town Tax | AI14: Volcano Insurance | AJ14: Windstorm Insurance
A15: TaxAndInsurance:EscrowRefund | B15: TaxAndInsurance | C15: EscrowRefund | D15: Loan Tax And Insurance | E15: Escrow Refund | K15: {=TRANSPOSE(_xlfn._xlws.FILTER(Item_Type, Category = Data!F16))} -> Borrower Paid Mortgage Insurance | L15: City Tax | M15: County Tax | N15: Earthquake Insurance | O15: Escrow Closeout | P15: Escrow Refund | Q15: Fire Insurance | R15: Flood Insurance | S15: Hail Insurance | T15: Homeowners Insurance | U15: Insurance Refund | V15: Interest On Escrow | W15: Lender Placed Insurance | X15: Loan Escrow Payment | Y15: Modification | Z15: Mortgage Insurance Refund | AA15: Other | AB15: Other Insurance | AC15: Other Refund | AD15: Other Tax | AE15: School Tax | AF15: Setup | AG15: Tax Refund | AH15: Town Tax | AI15: Volcano Insurance | AJ15: Windstorm Insurance
A16: TaxAndInsurance:FireInsurance | B16: TaxAndInsurance | C16: FireInsurance | D16: Loan Tax And Insurance | E16: Fire Insurance | K16: {=TRANSPOSE(_xlfn._xlws.FILTER(Item_Type, Category = Data!F17))} -> Interest on Escrow | L16: Loan Renovation Activity | M16: Setup
A17: TaxAndInsurance:FloodInsurance | B17: TaxAndInsurance | C17: FloodInsurance | D17: Loan Tax And Insurance | E17: Flood Insurance | K17: {=TRANSPOSE(_xlfn._xlws.FILTER(Item_Type, Category = Data!F18))} -> Interest on Escrow | L17: Loan Loss Draft Activity | M17: Setup
A18: TaxAndInsurance:HailInsurance | B18: TaxAndInsurance | C18: HailInsurance | D18: Loan Tax And Insurance | E18: Hail Insurance | K18: {=TRANSPOSE(_xlfn._xlws.FILTER(Item_Type, Category = Data!F19))} -> Loan Buy Down Activity | L18: Setup
A19: TaxAndInsurance:HomeownersInsurance | B19: TaxAndInsurance | C19: HomeownersInsurance | D19: Loan Tax And Insurance | E19: Homeowners Insurance | K19: {=TRANSPOSE(_xlfn._xlws.FILTER(Item_Type, Category = Data!F20))} -> #VALUE!
A20: TaxAndInsurance:InsuranceRefund | B20: TaxAndInsurance | C20: InsuranceRefund | D20: Loan Tax And Insurance | E20: Insurance Refund | K20: {=TRANSPOSE(_xlfn._xlws.FILTER(Item_Type, Category = Data!F21))} -> #VALUE!
A21: TaxAndInsurance:InterestOnEscrow | B21: TaxAndInsurance | C21: InterestOnEscrow | D21: Loan Tax And Insurance | E21: Interest On Escrow | K21: {=TRANSPOSE(_xlfn._xlws.FILTER(Item_Type, Category = Data!F22))} -> #VALUE!
A22: TaxAndInsurance:LenderPlacedInsurance | B22: TaxAndInsurance | C22: LenderPlacedInsurance | D22: Loan Tax And Insurance | E22: Lender Placed Insurance | K22: {=TRANSPOSE(_xlfn._xlws.FILTER(Item_Type, Category = Data!F23))} -> #VALUE!
A23: TaxAndInsurance:LoanEscrowPayment | B23: TaxAndInsurance | C23: LoanEscrowPayment | D23: Loan Tax And Insurance | E23: Loan Escrow Payment | K23: {=TRANSPOSE(_xlfn._xlws.FILTER(Item_Type, Category = Data!F24))} -> #VALUE!
A24: TaxAndInsurance:Modification | B24: TaxAndInsurance | C24: Modification | D24: Loan Tax And Insurance | E24: Modification | K24: {=TRANSPOSE(_xlfn._xlws.FILTER(Item_Type, Category = Data!F25))} -> #VALUE!
A25: TaxAndInsurance:MortgageInsuranceRefund | B25: TaxAndInsurance | C25: MortgageInsuranceRefund | D25: Loan Tax And Insurance | E25: Mortgage Insurance Refund | K25: {=TRANSPOSE(_xlfn._xlws.FILTER(Item_Type, Category = Data!F26))} -> #VALUE!
A26: TaxAndInsurance:Other | B26: TaxAndInsurance | C26: Other | D26: Loan Tax And Insurance | E26: Other | K26: {=TRANSPOSE(_xlfn._xlws.FILTER(Item_Type, Category = Data!F27))} -> #VALUE!
A27: TaxAndInsurance:OtherInsurance | B27: TaxAndInsurance | C27: OtherInsurance | D27: Loan Tax And Insurance | E27: Other Insurance | K27: {=TRANSPOSE(_xlfn._xlws.FILTER(Item_Type, Category = Data!F28))} -> #VALUE!
A28: TaxAndInsurance:OtherRefund | B28: TaxAndInsurance | C28: OtherRefund | D28: Loan Tax And Insurance | E28: Other Refund | K28: {=TRANSPOSE(_xlfn._xlws.FILTER(Item_Type, Category = Data!F29))} -> #VALUE!
A29: TaxAndInsurance:OtherTax | B29: TaxAndInsurance | C29: OtherTax | D29: Loan Tax And Insurance | E29: Other Tax | K29: {=TRANSPOSE(_xlfn._xlws.FILTER(Item_Type, Category = Data!F30))} -> #VALUE!
A30: TaxAndInsurance:SchoolPropertyTax | B30: TaxAndInsurance | C30: SchoolPropertyTax | D30: Loan Tax And Insurance | E30: School Tax | K30: {=TRANSPOSE(_xlfn._xlws.FILTER(Item_Type, Category = Data!F31))} -> #VALUE!
... A35: TaxAndInsurance:WindstormInsurance | B35: TaxAndInsurance | C35: WindstormInsurance | D35: Loan Tax And Insurance | E35: Windstorm Insurance | K35: {=TRANSPOSE(_xlfn._xlws.FILTER(Item_Type, Category = Data!F36))} -> #VALUE!
A36: NA | B36: NA | C36: NA | D36: NA | K36: {=TRANSPOSE(_xlfn._xlws.FILTER(Item_Type, Category = Data!F37))} -> #VALUE!
K37: {=TRANSPOSE(_xlfn._xlws.FILTER(Item_Type, Category = Data!F38))} -> #VALUE!
K38: {=TRANSPOSE(_xlfn._xlws.FILTER(Item_Type, Category = Data!F39))} -> #VALUE!
K39: {=TRANSPOSE(_xlfn._xlws.FILTER(Item_Type, Category = Data!F40))} -> #VALUE!
K40: {=TRANSPOSE(_xlfn._xlws.FILTER(Item_Type, Category = Data!F41))} -> #VALUE!
K41: {=TRANSPOSE(_xlfn._xlws.FILTER(Item_Type, Category = Data!F42))} -> #VALUE!
K42: {=TRANSPOSE(_xlfn._xlws.FILTER(Item_Type, Category = Data!F43))} -> #VALUE!
A43: Loan Buy Down | B43: InterestSubsidy | K43: {=TRANSPOSE(_xlfn._xlws.FILTER(Item_Type, Category = Data!F44))} -> #VALUE!
A44: Loan Loss Draft | B44: LossDraft | K44: {=TRANSPOSE(_xlfn._xlws.FILTER(Item_Type, Category = Data!F45))} -> #VALUE!
...
